BEGIN:VCALENDAR
VERSION:2.0
PRODID:-//Shahid Bhagat Singh Public High School Bela - ECPv6.10.2//NONSGML v1.0//EN
CALSCALE:GREGORIAN
METHOD:PUBLISH
X-ORIGINAL-URL:https://sbspublichighschool.com
X-WR-CALDESC:Events for Shahid Bhagat Singh Public High School Bela
REFRESH-INTERVAL;VALUE=DURATION:PT1H
X-Robots-Tag:noindex
X-PUBLISHED-TTL:PT1H
BEGIN:VTIMEZONE
TZID:UTC
BEGIN:STANDARD
TZOFFSETFROM:+0000
TZOFFSETTO:+0000
TZNAME:UTC
DTSTART:20240101T000000
END:STANDARD
END:VTIMEZONE
BEGIN:VEVENT
DTSTART;TZID=UTC:20240322T080000
DTEND;TZID=UTC:20240322T140000
DTSTAMP:20260420T091919
CREATED:20230522T111556Z
LAST-MODIFIED:20230522T111556Z
UID:1697-1711094400-1711116000@sbspublichighschool.com
SUMMARY:FINAL RESULT
DESCRIPTION:FINAL RESULT
URL:https://sbspublichighschool.com/event/final-result/
END:VEVENT
BEGIN:VEVENT
DTSTART;TZID=UTC:20240323T080000
DTEND;TZID=UTC:20240323T140000
DTSTAMP:20260420T091919
CREATED:20230522T111644Z
LAST-MODIFIED:20230522T111644Z
UID:1699-1711180800-1711202400@sbspublichighschool.com
SUMMARY:MARTY. DAY OF SHAHEED BHAGAT SINGH JI
DESCRIPTION:MARTY. DAY OF SHAHEED BHAGAT SINGH JI
URL:https://sbspublichighschool.com/event/marty-day-of-shaheed-bhagat-singh-ji/
END:VEVENT
BEGIN:VEVENT
DTSTART;TZID=UTC:20240325T080000
DTEND;TZID=UTC:20240325T140000
DTSTAMP:20260420T091919
CREATED:20230522T111728Z
LAST-MODIFIED:20230522T111728Z
UID:1701-1711353600-1711375200@sbspublichighschool.com
SUMMARY:HOLI/HOLLA MOHALLA
DESCRIPTION:HOLI/HOLLA MOHALLA
URL:https://sbspublichighschool.com/event/holi-holla-mohalla/
END:VEVENT
END:VCALENDAR